BEGIN:VCALENDAR
VERSION:2.0
PRODID:-//Kurs na Giżycko - ECPv6.1.3//NONSGML v1.0//EN
CALSCALE:GREGORIAN
METHOD:PUBLISH
X-WR-CALNAME:Kurs na Giżycko
X-ORIGINAL-URL:https://kursnagizycko.pl
X-WR-CALDESC:Events for Kurs na Giżycko
REFRESH-INTERVAL;VALUE=DURATION:PT1H
X-Robots-Tag:noindex
X-PUBLISHED-TTL:PT1H
BEGIN:VTIMEZONE
TZID:Europe/Warsaw
BEGIN:DAYLIGHT
TZOFFSETFROM:+0100
TZOFFSETTO:+0200
TZNAME:CEST
DTSTART:20260329T010000
END:DAYLIGHT
BEGIN:STANDARD
TZOFFSETFROM:+0200
TZOFFSETTO:+0100
TZNAME:CET
DTSTART:20261025T010000
END:STANDARD
END:VTIMEZONE
BEGIN:VEVENT
DTSTART;VALUE=DATE:20260416
DTEND;VALUE=DATE:20260420
DTSTAMP:20260424T213243
CREATED:20260326T102517Z
LAST-MODIFIED:20260326T102517Z
UID:10001139-1776297600-1776643199@kursnagizycko.pl
SUMMARY:Wschód sezonu 2026 | Tawerna Dezeta
DESCRIPTION:🔥 WSCHÓD SEZONU 2026 – DEZETA WILKASY 🔥\n📅 16–19 kwietnia 2026\nMazury budzą się do życia – a my robimy to po swojemu! 🎶⚓\nZapraszamy na wyjątkowe otwarcie sezonu w Tawernie Dezeta – cztery dni muzyki na żywo\, rozmów\, żeglarskiego klimatu i wspólnego bycia razem. To nie jest zwykła impreza – to spotkanie ludzi\, którzy czują Mazury tak samo.\nJam session\, koncerty\, ogniska i historie\, które tworzą ten klimat od lat. Wpadaj – niezależnie czy jesteś żeglarzem\, muzykiem czy po prostu lubisz dobrą atmosferę.\n🔥 WSCHÓD SEZONU 2026 – DEZETA WILKASY 🔥\n📅 16–19 kwietnia 2026\n🎸 PLAN IMPREZY\nCzwartek (16.04)\n——————\n18:00 – otwarcie tawerny\n19:00 – koncert Albert ColaWhisky\n20:00 – jam session z prowadzącymi i udziałem: Oli Lach\, Antka Waraksy\, Pawła Pupka\, Romana Tkaczyka oraz rozgrzanego już Alberta ColaWhisky\n00:00 – ognisko\nPiątek (17.04)\n——————\n10:00 – otwarcie\n12:00 – rozmowy i wywiady\n17:00 – Mazurskie Opowieści – Tadeusz Sakowski\n18:30 – Roman Tkaczyk\n20:00 – HUH Bosman\n21:30 – Martinz Band\n23:00 – Blue Card\n00:00 – OFICJALNE OTWARCIE SEZONU\nSobota (18.04)\n——————\n10:00 – start dnia\n12:00 – wspólne wyjście na wodę ⚓\n16:00 – nagrania i życzenia dla sezonu 2026\n17:00 – otwarta scena / rozmowy o Mazurach\n18:30 – Kaszubat / Gr0m\n20:00 – Krisu Band\n21:30 – Zrefowani\n23:00 – Jack Sparrow Band\n00:30 – ognisko\nNiedziela (19.04)\n——————\n10:00 – Śniadanie Mistrzów\n13:00 – spokojne zakończenie i powroty\nℹ️ INFO ORGANIZACYJNE\n✔️ Wstęp: BEZPŁATNY\n✔️ Jedzenie dostępne na miejscu\n✔️ Brak rezerwacji stolików\n✔️ Cumowanie i noclegi wg oferty portu\n✔️ Zakaz wnoszenia własnego alkoholu\n⚓ PODSUMOWANIE\nZaczynamy sezon tak\, jak lubimy najbardziej – muzyką\, ludźmi i Mazurami w tle.\nBez spiny\, bez zadęcia – za to z klimatem\, który pamięta się długo.\n👉 Do zobaczenia w Dezecie!
URL:https://kursnagizycko.pl/kalendarz-wydarzen/wschod-sezonu-2026-tawerna-dezeta/
LOCATION:Tawerna Dezeta\, ul. Niegocińska 1\, Wilkasy\, warmińsko-mazurskie\, 11-500\, Poland
CATEGORIES:wydarzenia
END:VEVENT
END:VCALENDAR