BEGIN:VCALENDAR
VERSION:2.0
PRODID:-//Kurs na Giżycko - ECPv6.1.3//NONSGML v1.0//EN
CALSCALE:GREGORIAN
METHOD:PUBLISH
X-ORIGINAL-URL:https://kursnagizycko.pl
X-WR-CALDESC:Events for Kurs na Giżycko
REFRESH-INTERVAL;VALUE=DURATION:PT1H
X-Robots-Tag:noindex
X-PUBLISHED-TTL:PT1H
BEGIN:VTIMEZONE
TZID:Europe/Warsaw
BEGIN:DAYLIGHT
TZOFFSETFROM:+0100
TZOFFSETTO:+0200
TZNAME:CEST
DTSTART:20260329T010000
END:DAYLIGHT
BEGIN:STANDARD
TZOFFSETFROM:+0200
TZOFFSETTO:+0100
TZNAME:CET
DTSTART:20261025T010000
END:STANDARD
END:VTIMEZONE
BEGIN:VEVENT
DTSTART;TZID=Europe/Warsaw:20260605T210000
DTEND;TZID=Europe/Warsaw:20260605T210000
DTSTAMP:20260424T180023
CREATED:20260320T113402Z
LAST-MODIFIED:20260320T113402Z
UID:10001107-1780693200-1780693200@kursnagizycko.pl
SUMMARY:Koncert - Bohika
DESCRIPTION:Piotr Karpienia to mieszkający w Ełku piosenkarz i gitarzysta. W 2003 roku został laureatem konkursu „Przebojem na Antenę” a w 2008 roku był finalistą irlandzkiego talent show „You’re a Star”\, aby w 2011 roku zostać laureatem czwartej edycji talent show „Mam talent!”. W 2012 roku wraz z Witoldem Cisło wydał album zatytułowany „Mój świat „. W 2015 roku jego singiel „Partyzant” był jednym z letnich przebojów radia RMF FM. W 2017 roku z zespołem „Karoosela” wystąpił na trasie Żywiec Męskie Granie. Oprócz tego bierze udział w kilku projektach muzycznych m. in. Bohika\, z którym koncertuje w kraju i za granicą. Doskonała zabawa gwarantowana.
URL:https://kursnagizycko.pl/kalendarz-wydarzen/koncert-bohika/
LOCATION:Tawerna Rozbitek\, ul. Niegocińska 5\, Wilkasy\, warmińsko-mazurskie\, 11-500\, Poland
CATEGORIES:wydarzenia
ATTACH;FMTTYPE=image/jpeg:https://kursnagizycko.pl/wp-content/uploads/2026/03/bohika.jpg
END:VEVENT
BEGIN:VEVENT
DTSTART;TZID=Europe/Warsaw:20260606T210000
DTEND;TZID=Europe/Warsaw:20260606T210000
DTSTAMP:20260424T180023
CREATED:20260320T104044Z
LAST-MODIFIED:20260320T104044Z
UID:10001103-1780779600-1780779600@kursnagizycko.pl
SUMMARY:Koncert - Korzuh
DESCRIPTION:KORZUH to coverowy zespół z Olsztyna. Powstał w 1999 roku. Na swoim koncie ma już ponad 1000 koncertów. Doskonale dobrany repertuar i autentyczność przekazu sprawiły\, że ten coverowy zespół szybko zyskał szerokie grono fanów. Grupa stała się ikoną dobrej zabawy rock n’ rolowej. W miłej atmosferze Tawerny Rozbitek są częstym gościem.
URL:https://kursnagizycko.pl/kalendarz-wydarzen/koncert-korzuh/
LOCATION:Tawerna Rozbitek\, ul. Niegocińska 5\, Wilkasy\, warmińsko-mazurskie\, 11-500\, Poland
CATEGORIES:wydarzenia
ATTACH;FMTTYPE=image/jpeg:https://kursnagizycko.pl/wp-content/uploads/2026/03/korzuh.jpg
END:VEVENT
BEGIN:VEVENT
DTSTART;TZID=Europe/Warsaw:20260620T210000
DTEND;TZID=Europe/Warsaw:20260620T233000
DTSTAMP:20260424T180023
CREATED:20260324T100825Z
LAST-MODIFIED:20260324T100825Z
UID:10001122-1781989200-1781998200@kursnagizycko.pl
SUMMARY:Koncert - Luka
DESCRIPTION:LUKA to nowy projekt muzyczny powstały po rozejściu się muzyków zespołu Martinz Band. Trójka z nich postanowiła założyć nowy zespół. Energia gwarantowana i dobra zabawa też. Sezon 2026 będzie ich sezonem debiutanckim\, choć wszyscy muzycy są bardzo doświadczeni..
URL:https://kursnagizycko.pl/kalendarz-wydarzen/koncert-luka-9/
LOCATION:Tawerna Rozbitek\, ul. Niegocińska 5\, Wilkasy\, warmińsko-mazurskie\, 11-500\, Poland
CATEGORIES:wydarzenia
ATTACH;FMTTYPE=image/jpeg:https://kursnagizycko.pl/wp-content/uploads/2026/03/LUKA-1.jpg
END:VEVENT
BEGIN:VEVENT
DTSTART;TZID=Europe/Warsaw:20260627T210000
DTEND;TZID=Europe/Warsaw:20260627T233000
DTSTAMP:20260424T180023
CREATED:20260324T100312Z
LAST-MODIFIED:20260324T100312Z
UID:10001119-1782594000-1782603000@kursnagizycko.pl
SUMMARY:Koncert - Korzuh
DESCRIPTION:KORZUH to coverowy zespół z Olsztyna. Powstał w 1999 roku. Na swoim koncie ma już ponad 1000 koncertów. Doskonale dobrany repertuar i autentyczność przekazu sprawiły\, że ten coverowy zespół szybko zyskał szerokie grono fanów. Grupa stała się ikoną dobrej zabawy rock n’ rolowej. W miłej atmosferze Tawerny Rozbitek są częstym gościem.
URL:https://kursnagizycko.pl/kalendarz-wydarzen/koncert-korzuh-8/
LOCATION:Tawerna Rozbitek\, ul. Niegocińska 5\, Wilkasy\, warmińsko-mazurskie\, 11-500\, Poland
CATEGORIES:wydarzenia
ATTACH;FMTTYPE=image/jpeg:https://kursnagizycko.pl/wp-content/uploads/2026/03/korzuh.jpg
END:VEVENT
BEGIN:VEVENT
DTSTART;TZID=Europe/Warsaw:20260628T210000
DTEND;TZID=Europe/Warsaw:20260628T233000
DTSTAMP:20260424T180023
CREATED:20260324T114452Z
LAST-MODIFIED:20260324T114452Z
UID:10001128-1782680400-1782689400@kursnagizycko.pl
SUMMARY:Koncert - Tomasz "Grom" Paciorek
DESCRIPTION:Gitarzysta i wokalista\, samouk\, miłośnik żagli i Mazur oraz podróży\, whisky i dobrej zabawy. Na scenie „szantowej” od 2004 roku pierwsze kroki stawiał w Warszawie\, w ślad za stylem Romana Roczenia\, z czasem jednak wykształcił własną osobowość sceniczną. Ma za sobą koncerty w całej Polsce od Gdańska po Kraków. Prywatnie żeglarz jachtowy\, zawodowo wykonawca piosenki żeglarskiej i lekarz chorych komputerów. W jego repertuarze są przeboje żeglarskie i ballady nieznane\, kilka utworów autorskich oraz standardy polskiego rocka. W 2020 roku ukazała się pierwsza płyta\, wydana przy wsparciu m. in. Tawerny Rozbitek i AZS Wilkasy\, „(NIE) MOJE PIOSENKI” wydana przez GROMa & Baltazara.
URL:https://kursnagizycko.pl/kalendarz-wydarzen/koncert-tomasz-grom-paciorek-4/
LOCATION:Tawerna Rozbitek\, ul. Niegocińska 5\, Wilkasy\, warmińsko-mazurskie\, 11-500\, Poland
CATEGORIES:wydarzenia
ATTACH;FMTTYPE=image/jpeg:https://kursnagizycko.pl/wp-content/uploads/2026/03/grom.jpg
END:VEVENT
BEGIN:VEVENT
DTSTART;TZID=Europe/Warsaw:20260718T210000
DTEND;TZID=Europe/Warsaw:20260718T233000
DTSTAMP:20260424T180023
CREATED:20260324T100217Z
LAST-MODIFIED:20260324T100217Z
UID:10001118-1784408400-1784417400@kursnagizycko.pl
SUMMARY:Koncert - Korzuh
DESCRIPTION:KORZUH to coverowy zespół z Olsztyna. Powstał w 1999 roku. Na swoim koncie ma już ponad 1000 koncertów. Doskonale dobrany repertuar i autentyczność przekazu sprawiły\, że ten coverowy zespół szybko zyskał szerokie grono fanów. Grupa stała się ikoną dobrej zabawy rock n’ rolowej. W miłej atmosferze Tawerny Rozbitek są częstym gościem.
URL:https://kursnagizycko.pl/kalendarz-wydarzen/koncert-korzuh-7/
LOCATION:Tawerna Rozbitek\, ul. Niegocińska 5\, Wilkasy\, warmińsko-mazurskie\, 11-500\, Poland
CATEGORIES:wydarzenia
ATTACH;FMTTYPE=image/jpeg:https://kursnagizycko.pl/wp-content/uploads/2026/03/korzuh.jpg
END:VEVENT
BEGIN:VEVENT
DTSTART;TZID=Europe/Warsaw:20260719T210000
DTEND;TZID=Europe/Warsaw:20260719T233000
DTSTAMP:20260424T180023
CREATED:20260324T114725Z
LAST-MODIFIED:20260324T114725Z
UID:10001130-1784494800-1784503800@kursnagizycko.pl
SUMMARY:Koncert - Shantaż
DESCRIPTION:Olsztyński zespół zafascynowany pięknem rejonu Wielkich Jezior Mazurskich oraz turystyczną piosenką wakacyjną. Na scenie zadebiutowali wiosną 1998 roku. Wykonują szanty szuwarowo-bagienne i piosenki żeglarskie. W swoim repertuarze – oprócz utworów autorskich (ponad 25 kompozycji) – mają piosenki K. Klenczona i S. Krajewskiego\, a także – w razie potrzeby – znane i lubiane szanty „masowego rażenia”. Posiadają bogate instrumentarium\, a w zespole grają absolwenci oraz wykładowcy Uniwersytetu Warmińsko-Mazurskiego w Olsztynie.
URL:https://kursnagizycko.pl/kalendarz-wydarzen/koncert-shantaz-2/
LOCATION:Tawerna Rozbitek\, ul. Niegocińska 5\, Wilkasy\, warmińsko-mazurskie\, 11-500\, Poland
CATEGORIES:wydarzenia
ATTACH;FMTTYPE=image/jpeg:https://kursnagizycko.pl/wp-content/uploads/2026/03/shantaz.jpg
END:VEVENT
BEGIN:VEVENT
DTSTART;TZID=Europe/Warsaw:20260726T210000
DTEND;TZID=Europe/Warsaw:20260726T233000
DTSTAMP:20260424T180023
CREATED:20260324T114527Z
LAST-MODIFIED:20260324T114527Z
UID:10001129-1785099600-1785108600@kursnagizycko.pl
SUMMARY:Koncert - Tomasz "Grom" Paciorek
DESCRIPTION:Gitarzysta i wokalista\, samouk\, miłośnik żagli i Mazur oraz podróży\, whisky i dobrej zabawy. Na scenie „szantowej” od 2004 roku pierwsze kroki stawiał w Warszawie\, w ślad za stylem Romana Roczenia\, z czasem jednak wykształcił własną osobowość sceniczną. Ma za sobą koncerty w całej Polsce od Gdańska po Kraków. Prywatnie żeglarz jachtowy\, zawodowo wykonawca piosenki żeglarskiej i lekarz chorych komputerów. W jego repertuarze są przeboje żeglarskie i ballady nieznane\, kilka utworów autorskich oraz standardy polskiego rocka. W 2020 roku ukazała się pierwsza płyta\, wydana przy wsparciu m. in. Tawerny Rozbitek i AZS Wilkasy\, „(NIE) MOJE PIOSENKI” wydana przez GROMa & Baltazara.
URL:https://kursnagizycko.pl/kalendarz-wydarzen/koncert-tomasz-grom-paciorek-5/
LOCATION:Tawerna Rozbitek\, ul. Niegocińska 5\, Wilkasy\, warmińsko-mazurskie\, 11-500\, Poland
CATEGORIES:wydarzenia
ATTACH;FMTTYPE=image/jpeg:https://kursnagizycko.pl/wp-content/uploads/2026/03/grom.jpg
END:VEVENT
BEGIN:VEVENT
DTSTART;TZID=Europe/Warsaw:20260730T210000
DTEND;TZID=Europe/Warsaw:20260730T233000
DTSTAMP:20260424T180023
CREATED:20260324T100747Z
LAST-MODIFIED:20260324T100747Z
UID:10001121-1785445200-1785454200@kursnagizycko.pl
SUMMARY:Koncert - Luka
DESCRIPTION:LUKA to nowy projekt muzyczny powstały po rozejściu się muzyków zespołu Martinz Band. Trójka z nich postanowiła założyć nowy zespół. Energia gwarantowana i dobra zabawa też. Sezon 2026 będzie ich sezonem debiutanckim\, choć wszyscy muzycy są bardzo doświadczeni..
URL:https://kursnagizycko.pl/kalendarz-wydarzen/koncert-luka-8/
LOCATION:Tawerna Rozbitek\, ul. Niegocińska 5\, Wilkasy\, warmińsko-mazurskie\, 11-500\, Poland
CATEGORIES:wydarzenia
ATTACH;FMTTYPE=image/jpeg:https://kursnagizycko.pl/wp-content/uploads/2026/03/LUKA-1.jpg
END:VEVENT
BEGIN:VEVENT
DTSTART;TZID=Europe/Warsaw:20260808T210000
DTEND;TZID=Europe/Warsaw:20260808T233000
DTSTAMP:20260424T180023
CREATED:20260324T100140Z
LAST-MODIFIED:20260324T100140Z
UID:10001117-1786222800-1786231800@kursnagizycko.pl
SUMMARY:Koncert - Korzuh
DESCRIPTION:KORZUH to coverowy zespół z Olsztyna. Powstał w 1999 roku. Na swoim koncie ma już ponad 1000 koncertów. Doskonale dobrany repertuar i autentyczność przekazu sprawiły\, że ten coverowy zespół szybko zyskał szerokie grono fanów. Grupa stała się ikoną dobrej zabawy rock n’ rolowej. W miłej atmosferze Tawerny Rozbitek są częstym gościem.
URL:https://kursnagizycko.pl/kalendarz-wydarzen/koncert-korzuh-6/
LOCATION:Tawerna Rozbitek\, ul. Niegocińska 5\, Wilkasy\, warmińsko-mazurskie\, 11-500\, Poland
CATEGORIES:wydarzenia
ATTACH;FMTTYPE=image/jpeg:https://kursnagizycko.pl/wp-content/uploads/2026/03/korzuh.jpg
END:VEVENT
BEGIN:VEVENT
DTSTART;TZID=Europe/Warsaw:20260815T210000
DTEND;TZID=Europe/Warsaw:20260815T233000
DTSTAMP:20260424T180023
CREATED:20260324T101332Z
LAST-MODIFIED:20260324T101332Z
UID:10001127-1786827600-1786836600@kursnagizycko.pl
SUMMARY:Koncert - Bohika
DESCRIPTION:Piotr Karpienia to mieszkający w Ełku piosenkarz i gitarzysta. W 2003 roku został laureatem konkursu „Przebojem na Antenę” a w 2008 roku był finalistą irlandzkiego talent show „You’re a Star”\, aby w 2011 roku zostać laureatem czwartej edycji talent show „Mam talent!”. W 2012 roku wraz z Witoldem Cisło wydał album zatytułowany „Mój świat „. W 2015 roku jego singiel „Partyzant” był jednym z letnich przebojów radia RMF FM. W 2017 roku z zespołem „Karoosela” wystąpił na trasie Żywiec Męskie Granie. Oprócz tego bierze udział w kilku projektach muzycznych m. in. Bohika\, z którym koncertuje w kraju i za granicą. Doskonała zabawa gwarantowana.
URL:https://kursnagizycko.pl/kalendarz-wydarzen/koncert-bohika-5/
LOCATION:Tawerna Rozbitek\, ul. Niegocińska 5\, Wilkasy\, warmińsko-mazurskie\, 11-500\, Poland
CATEGORIES:wydarzenia
ATTACH;FMTTYPE=image/jpeg:https://kursnagizycko.pl/wp-content/uploads/2026/03/bohika.jpg
END:VEVENT
BEGIN:VEVENT
DTSTART;TZID=Europe/Warsaw:20260822T210000
DTEND;TZID=Europe/Warsaw:20260822T233000
DTSTAMP:20260424T180023
CREATED:20260324T100026Z
LAST-MODIFIED:20260324T100026Z
UID:10001116-1787432400-1787441400@kursnagizycko.pl
SUMMARY:Koncert - Korzuh
DESCRIPTION:KORZUH to coverowy zespół z Olsztyna. Powstał w 1999 roku. Na swoim koncie ma już ponad 1000 koncertów. Doskonale dobrany repertuar i autentyczność przekazu sprawiły\, że ten coverowy zespół szybko zyskał szerokie grono fanów. Grupa stała się ikoną dobrej zabawy rock n’ rolowej. W miłej atmosferze Tawerny Rozbitek są częstym gościem.
URL:https://kursnagizycko.pl/kalendarz-wydarzen/koncert-korzuh-5/
LOCATION:Tawerna Rozbitek\, ul. Niegocińska 5\, Wilkasy\, warmińsko-mazurskie\, 11-500\, Poland
CATEGORIES:wydarzenia
ATTACH;FMTTYPE=image/jpeg:https://kursnagizycko.pl/wp-content/uploads/2026/03/korzuh.jpg
END:VEVENT
BEGIN:VEVENT
DTSTART;TZID=Europe/Warsaw:20260828T203000
DTEND;TZID=Europe/Warsaw:20260828T233000
DTSTAMP:20260424T180023
CREATED:20260324T101256Z
LAST-MODIFIED:20260324T101256Z
UID:10001126-1787949000-1787959800@kursnagizycko.pl
SUMMARY:Koncert - Bohika
DESCRIPTION:Piotr Karpienia to mieszkający w Ełku piosenkarz i gitarzysta. W 2003 roku został laureatem konkursu „Przebojem na Antenę” a w 2008 roku był finalistą irlandzkiego talent show „You’re a Star”\, aby w 2011 roku zostać laureatem czwartej edycji talent show „Mam talent!”. W 2012 roku wraz z Witoldem Cisło wydał album zatytułowany „Mój świat „. W 2015 roku jego singiel „Partyzant” był jednym z letnich przebojów radia RMF FM. W 2017 roku z zespołem „Karoosela” wystąpił na trasie Żywiec Męskie Granie. Oprócz tego bierze udział w kilku projektach muzycznych m. in. Bohika\, z którym koncertuje w kraju i za granicą. Doskonała zabawa gwarantowana.
URL:https://kursnagizycko.pl/kalendarz-wydarzen/koncert-bohika-4/
LOCATION:Tawerna Rozbitek\, ul. Niegocińska 5\, Wilkasy\, warmińsko-mazurskie\, 11-500\, Poland
CATEGORIES:wydarzenia
ATTACH;FMTTYPE=image/jpeg:https://kursnagizycko.pl/wp-content/uploads/2026/03/bohika.jpg
END:VEVENT
BEGIN:VEVENT
DTSTART;TZID=Europe/Warsaw:20260912T203000
DTEND;TZID=Europe/Warsaw:20260912T233000
DTSTAMP:20260424T180023
CREATED:20260324T095938Z
LAST-MODIFIED:20260324T095938Z
UID:10001115-1789245000-1789255800@kursnagizycko.pl
SUMMARY:Koncert - Korzuh
DESCRIPTION:KORZUH to coverowy zespół z Olsztyna. Powstał w 1999 roku. Na swoim koncie ma już ponad 1000 koncertów. Doskonale dobrany repertuar i autentyczność przekazu sprawiły\, że ten coverowy zespół szybko zyskał szerokie grono fanów. Grupa stała się ikoną dobrej zabawy rock n’ rolowej. W miłej atmosferze Tawerny Rozbitek są częstym gościem.
URL:https://kursnagizycko.pl/kalendarz-wydarzen/koncert-korzuh-4/
LOCATION:Tawerna Rozbitek\, ul. Niegocińska 5\, Wilkasy\, warmińsko-mazurskie\, 11-500\, Poland
CATEGORIES:wydarzenia
ATTACH;FMTTYPE=image/jpeg:https://kursnagizycko.pl/wp-content/uploads/2026/03/korzuh.jpg
END:VEVENT
BEGIN:VEVENT
DTSTART;TZID=Europe/Warsaw:20260919T203000
DTEND;TZID=Europe/Warsaw:20260919T233000
DTSTAMP:20260424T180023
CREATED:20260324T101148Z
LAST-MODIFIED:20260324T101148Z
UID:10001125-1789849800-1789860600@kursnagizycko.pl
SUMMARY:Koncert - Bohika
DESCRIPTION:Piotr Karpienia to mieszkający w Ełku piosenkarz i gitarzysta. W 2003 roku został laureatem konkursu „Przebojem na Antenę” a w 2008 roku był finalistą irlandzkiego talent show „You’re a Star”\, aby w 2011 roku zostać laureatem czwartej edycji talent show „Mam talent!”. W 2012 roku wraz z Witoldem Cisło wydał album zatytułowany „Mój świat „. W 2015 roku jego singiel „Partyzant” był jednym z letnich przebojów radia RMF FM. W 2017 roku z zespołem „Karoosela” wystąpił na trasie Żywiec Męskie Granie. Oprócz tego bierze udział w kilku projektach muzycznych m. in. Bohika\, z którym koncertuje w kraju i za granicą. Doskonała zabawa gwarantowana.
URL:https://kursnagizycko.pl/kalendarz-wydarzen/koncert-bohika-3/
LOCATION:Tawerna Rozbitek\, ul. Niegocińska 5\, Wilkasy\, warmińsko-mazurskie\, 11-500\, Poland
CATEGORIES:wydarzenia
ATTACH;FMTTYPE=image/jpeg:https://kursnagizycko.pl/wp-content/uploads/2026/03/bohika.jpg
END:VEVENT
BEGIN:VEVENT
DTSTART;TZID=Europe/Warsaw:20260925T203000
DTEND;TZID=Europe/Warsaw:20260925T233000
DTSTAMP:20260424T180023
CREATED:20260324T100610Z
LAST-MODIFIED:20260324T100638Z
UID:10001120-1790368200-1790379000@kursnagizycko.pl
SUMMARY:Koncert - Luka
DESCRIPTION:LUKA to nowy projekt muzyczny powstały po rozejściu się muzyków zespołu Martinz Band. Trójka z nich postanowiła założyć nowy zespół. Energia gwarantowana i dobra zabawa też. Sezon 2026 będzie ich sezonem debiutanckim\, choć wszyscy muzycy są bardzo doświadczeni..
URL:https://kursnagizycko.pl/kalendarz-wydarzen/koncert-luka-7/
LOCATION:Tawerna Rozbitek\, ul. Niegocińska 5\, Wilkasy\, warmińsko-mazurskie\, 11-500\, Poland
CATEGORIES:wydarzenia
ATTACH;FMTTYPE=image/jpeg:https://kursnagizycko.pl/wp-content/uploads/2026/03/LUKA-1.jpg
END:VEVENT
BEGIN:VEVENT
DTSTART;TZID=Europe/Warsaw:20260926T203000
DTEND;TZID=Europe/Warsaw:20260926T233000
DTSTAMP:20260424T180023
CREATED:20260324T095843Z
LAST-MODIFIED:20260324T095843Z
UID:10001114-1790454600-1790465400@kursnagizycko.pl
SUMMARY:Koncert - Korzuh
DESCRIPTION:KORZUH to coverowy zespół z Olsztyna. Powstał w 1999 roku. Na swoim koncie ma już ponad 1000 koncertów. Doskonale dobrany repertuar i autentyczność przekazu sprawiły\, że ten coverowy zespół szybko zyskał szerokie grono fanów. Grupa stała się ikoną dobrej zabawy rock n’ rolowej. W miłej atmosferze Tawerny Rozbitek są częstym gościem.
URL:https://kursnagizycko.pl/kalendarz-wydarzen/koncert-korzuh-3/
LOCATION:Tawerna Rozbitek\, ul. Niegocińska 5\, Wilkasy\, warmińsko-mazurskie\, 11-500\, Poland
CATEGORIES:wydarzenia
ATTACH;FMTTYPE=image/jpeg:https://kursnagizycko.pl/wp-content/uploads/2026/03/korzuh.jpg
END:VEVENT
END:VCALENDAR