BEGIN:VCALENDAR
VERSION:2.0
PRODID:-//Kurs na Giżycko - ECPv6.1.3//NONSGML v1.0//EN
CALSCALE:GREGORIAN
METHOD:PUBLISH
X-ORIGINAL-URL:https://kursnagizycko.pl
X-WR-CALDESC:Events for Kurs na Giżycko
REFRESH-INTERVAL;VALUE=DURATION:PT1H
X-Robots-Tag:noindex
X-PUBLISHED-TTL:PT1H
BEGIN:VTIMEZONE
TZID:Europe/Warsaw
BEGIN:DAYLIGHT
TZOFFSETFROM:+0100
TZOFFSETTO:+0200
TZNAME:CEST
DTSTART:20260329T010000
END:DAYLIGHT
BEGIN:STANDARD
TZOFFSETFROM:+0200
TZOFFSETTO:+0100
TZNAME:CET
DTSTART:20261025T010000
END:STANDARD
END:VTIMEZONE
BEGIN:VEVENT
DTSTART;TZID=Europe/Warsaw:20260328T120000
DTEND;TZID=Europe/Warsaw:20260328T140000
DTSTAMP:20260424T174428
CREATED:20260309T103537Z
LAST-MODIFIED:20260309T103537Z
UID:10001056-1774699200-1774706400@kursnagizycko.pl
SUMMARY:Rodzinne Warsztaty Wielkanocne w Twierdzy Boyen
DESCRIPTION:Rodzinne Warsztaty Wielkanocne – ZAPISZ SIĘ JUŻ DZIŚ!\n🌼28 marca 2026 rok\, godzina: 12:00-14:00\nDo wyboru dwa rodzaje zajęć:\n– makramowe zajączki\n– świąteczne wianki\nŚwietna zabawa gwarantowana dla całej rodziny.\nZapisy: tel. 506 943 752\nwydarzenia@twierdza.gizycko.pl\nZapraszamy!
URL:https://kursnagizycko.pl/kalendarz-wydarzen/rodzinne-warsztaty-wielkanocne-w-twierdzy-boyen/
LOCATION:Twierdza Boyen\, Turystyczna 1\, Giżycko\, warmińsko-mazurskie\, 11-500\, Poland
CATEGORIES:wydarzenia
END:VEVENT
BEGIN:VEVENT
DTSTART;TZID=Europe/Warsaw:20260321T150000
DTEND;TZID=Europe/Warsaw:20260321T150000
DTSTAMP:20260424T174428
CREATED:20260309T093242Z
LAST-MODIFIED:20260309T093242Z
UID:10001049-1774105200-1774105200@kursnagizycko.pl
SUMMARY:Wiosenna Gra Terenowa w Twierdzy Boyen
DESCRIPTION:Pierwsza w tym roku GRA TERENOWA dla każdego już 21 MARCA 2026 ROKU.\nPrzywitaj WIOSNĘ w aktywny spsób w murach Twierdzy Boyen w Giżycku i zostań odkrywcą!\nWIOSNA w Twierdzy Boyen i GRA TERENOWA! Pierwszy dzień wiosny to idealny moment\, by oddychać świeżym powietrzem i poczuć energię budzącej się przyrody. ZOSTAŃ ODKRYWCĄ TWIERDZY BOYEN! Zapraszamy na kolejną grę terenową już 21.03.2026 roku!
URL:https://kursnagizycko.pl/kalendarz-wydarzen/wiosenna-gra-terenowa-w-twierdzy-boyen/
LOCATION:Twierdza Boyen\, Turystyczna 1\, Giżycko\, warmińsko-mazurskie\, 11-500\, Poland
CATEGORIES:wydarzenia
END:VEVENT
BEGIN:VEVENT
DTSTART;VALUE=DATE:20260316
DTEND;VALUE=DATE:20260328
DTSTAMP:20260424T174428
CREATED:20260309T092729Z
LAST-MODIFIED:20260309T092729Z
UID:10001047-1773619200-1774655999@kursnagizycko.pl
SUMMARY:Warsztaty wielkanocne w Twierdzy Boyen
DESCRIPTION:Twierdza Boyen Giżycko zaprasza na Wielkanocne Warsztaty! \nZbliżające się Święta Wielkanocne to doskonała okazja do wspólnego tworzenia i budowania świątecznej atmosfery. Jak co roku Twierdza Boyen przygotowuje wyjątkowe warsztaty\, podczas których będzie można własnoręcznie wykonać wielkanocne dekoracje i kreatywne ozdoby inspirowane tradycją oraz wiosenną symboliką. \nWarsztaty Wielkanocne – START ZAPISÓW Śnieg jeszcze wokół Twierdzy Boyen\, a my już szukamy zajączka! 🐰Zajęcia do wyboru dla każdej klasy i grupy! \nZapisz się już dziś i wybierz swoje ulubione zajęcia! tel. 506 943 752\, wydarzenia@twierdza.gizycko.pl
URL:https://kursnagizycko.pl/kalendarz-wydarzen/warsztaty-wielkanocne-w-twierdzy-boyen/
LOCATION:Twierdza Boyen\, Turystyczna 1\, Giżycko\, warmińsko-mazurskie\, 11-500\, Poland
CATEGORIES:wydarzenia
END:VEVENT
BEGIN:VEVENT
DTSTART;TZID=Europe/Warsaw:20260314T170000
DTEND;TZID=Europe/Warsaw:20260314T200000
DTSTAMP:20260424T174428
CREATED:20260223T101719Z
LAST-MODIFIED:20260309T071715Z
UID:10001026-1773507600-1773518400@kursnagizycko.pl
SUMMARY:Giżycka Noc Sów
DESCRIPTION:Jeśli chcecie poznać fascynujący świat sów\, zapraszamy Was do Twierdzy Boyen w Giżycku na Noc Sów. Podczas prelekcji dowiecie się więcej o biologii\, ekologii i znaczeniu sów oraz poznacie gatunki występujące w Polsce. Po zmroku wyruszymy na wspólny spacer\, aby nasłuchiwać odgłosów ptaków.
URL:https://kursnagizycko.pl/kalendarz-wydarzen/gizycka-noc-sow/
LOCATION:Twierdza Boyen\, Turystyczna 1\, Giżycko\, warmińsko-mazurskie\, 11-500\, Poland
CATEGORIES:wydarzenia
END:VEVENT
BEGIN:VEVENT
DTSTART;TZID=Europe/Warsaw:20260308T130000
DTEND;TZID=Europe/Warsaw:20260308T160000
DTSTAMP:20260424T174428
CREATED:20260223T101515Z
LAST-MODIFIED:20260224T085752Z
UID:10001025-1772974800-1772985600@kursnagizycko.pl
SUMMARY:Między historią a elegancją | Dzień Kobiet w Twierdzy Boyen
DESCRIPTION:Już wkrótce wyjątkowy Dzień Kobiet w niezwykłym miejscu – w sercu historii\, czyli w Twierdza Boyen! 🌸\nTo wydarzenie dla każdej kobiety – i tej większej\, i tej mniejszej\nZrób sobie prezent i spędź ten dzień w kobiecej\, inspirującej atmosferze. \n📅 8 MARCA 2026 ROKU\n📍 Warsztat Zbrojmistrza\n⏰ 13:00–16:00 \nW PROGRAMIE:\n• Peeling dłoni – chwila relaksu tylko dla Ciebie\n• Pokaz makijażu dziennego – praktyczne wskazówki i triki\n• Degustacja zdrowych przekąsek oraz zamiennika kawy\n• Porozmawiamy o bezpieczeństwie kosmetyków\n• Jak zmienić nawyki – małe kroki do dużych celów\n• Poznasz możliwości biznesowe i inspirujące historie \nTo będzie popołudnie pełne kobiecej mocy\, uśmiechu i inspiracji\nCzas na rozmowy\, rozwój i zadbanie o siebie – w wyjątkowych\, klimatycznych murach Twierdzy.\nObowiązują zapisy!\nLiczba miejsc jest ograniczona – decyduje kolejność zgłoszeń!\ntel. 506 943 752\nwydarzenia@twierdza.gizycko.pl \nWydarzenie biletowane: 18\,00 zł/za osobę .\n📩 Zgłoś swój udział już dziś i zaproś przyjaciółkę – razem świętuje się najpiękniej.
URL:https://kursnagizycko.pl/kalendarz-wydarzen/miedzy-historia-a-elegancja-dzien-kobiet-w-twierdzy-boyen/
LOCATION:Twierdza Boyen\, Turystyczna 1\, Giżycko\, warmińsko-mazurskie\, 11-500\, Poland
CATEGORIES:wydarzenia
END:VEVENT
BEGIN:VEVENT
DTSTART;TZID=Europe/Warsaw:20260228T120000
DTEND;TZID=Europe/Warsaw:20260228T120000
DTSTAMP:20260424T174428
CREATED:20260209T104006Z
LAST-MODIFIED:20260209T104006Z
UID:10001007-1772280000-1772280000@kursnagizycko.pl
SUMMARY:Narodowy Dzień Pamięci Żołnierzy Wyklętych | inscenizacja historyczna | piknik rodzinny
DESCRIPTION:„W cieniu murów\, w świetle prawdy” – I EDYCJA – Narodowy Dzień Pamięci Żołnierzy Wyklętych\nZapraszamy na pierwszą edycję wyjątkowego wydarzenia historycznego połączonego z rekonstrukcją wydarzeń z przeszłości\, które odbędzie się 28 lutego 2026 w Twierdzy Boyen w Giżycku.\nPrzenieś się w czasie i poznaj fascynujące historie ukryte w murach Twierdzy Boyen w Giżycku.\nW programie:\n🕰 Inscenizacja historyczna – zobacz inscenizację ważnych wydarzeń\, które ukształtowały naszą historię.\n🎪 Piknik rodzinny – spędź czas w gronie rodziny i przyjaciół\, korzystając z atrakcji na świeżym powietrzu\, gier\, zabaw i strefy gastronomicznej.\nTo doskonała okazja\, aby połączyć edukację z dobrą zabawą!\nPrzyjdź i odkryj tajemnice skrywane przez mury\, w atmosferze historycznej rekonstrukcji i rodzinnego pikniku.\nData: 28.02.2026\nMiejsce: TWIERDZA BOYEN W GIŻYCKU\nStart: 12:00\nNie przegap tego wyjątkowego dnia – historia czeka\, by ją poznać!
URL:https://kursnagizycko.pl/kalendarz-wydarzen/narodowy-dzien-pamieci-zolnierzy-wykletych-inscenizacja-historyczna-piknik-rodzinny/
LOCATION:Twierdza Boyen\, Turystyczna 1\, Giżycko\, warmińsko-mazurskie\, 11-500\, Poland
CATEGORIES:wydarzenia
END:VEVENT
BEGIN:VEVENT
DTSTART;TZID=Europe/Warsaw:20260214T110000
DTEND;TZID=Europe/Warsaw:20260214T110000
DTSTAMP:20260424T174428
CREATED:20260205T091434Z
LAST-MODIFIED:20260205T091434Z
UID:10001002-1771066800-1771066800@kursnagizycko.pl
SUMMARY:Walentynki w Twierdzy Boyen
DESCRIPTION:Walentynki w Twierdzy Boyen – ZAKOCHAJ SIĘ W HISTROII🏰❤️\nSzukasz pomysłu na Walentynki inne niż wszystkie? Zapraszamy na wyjątkowe zwiedzanie twierdzy z przewodnikiem w historycznym mundurze\, który opowie o tajemnicach i dziejach fortyfikacji.\n📅 14 lutego 2026 r.\n🕚 Godzina 11:00\nFinałem wydarzenia będzie efektowny wystrzał z armaty\, który na długo pozostanie w pamięci uczestników.\nPropozycja idealna dla każdego!\nSpędź Walentynki w wyjątkowym miejscu i wyjątkowej atmosferze!
URL:https://kursnagizycko.pl/kalendarz-wydarzen/walentynki-w-twierdzy-boyen/
LOCATION:Twierdza Boyen\, Turystyczna 1\, Giżycko\, warmińsko-mazurskie\, 11-500\, Poland
CATEGORIES:wydarzenia
END:VEVENT
BEGIN:VEVENT
DTSTART;TZID=Europe/Warsaw:20260213T170000
DTEND;TZID=Europe/Warsaw:20260213T190000
DTSTAMP:20260424T174428
CREATED:20260206T082712Z
LAST-MODIFIED:20260206T082712Z
UID:10001003-1771002000-1771009200@kursnagizycko.pl
SUMMARY:Walentynkowe planszówki w Twierdzy Boyen
DESCRIPTION:Twierdza Boyen zaprasza wieczór gier pt. WALENTYNKOWE PLANSZÓWKI\nZapraszamy na wieczór pełen gier i dobrej zabawy – idealny dla rodzin\, babć i dziadków\, zakochanych… i wszystkich\, którzy lubią spędzać czas razem. \nGodzina 17:00\nMiejsce: Twierdza Boyen/Wasztat Zbrojmistrza\nBilet: 1\,00 zł \nPrzyjdź i zagraj w proste i bardziej wymagające gry\, pośmiej się i spędź czas w świetnym towarzystwie. Niech wieczór będzie pretekstem do rozmów\, śmiechu i wspólnych chwil w klimatycznej Twierdzy Boyen w Giżycku.
URL:https://kursnagizycko.pl/kalendarz-wydarzen/walentynkowe-planszowki-w-twierdzy-boyen/
LOCATION:Twierdza Boyen\, Turystyczna 1\, Giżycko\, warmińsko-mazurskie\, 11-500\, Poland
CATEGORIES:wydarzenia
END:VEVENT
END:VCALENDAR